BEGIN:VCALENDAR
VERSION:2.0
PRODID:-//Croix Blanche de l&#039;Isère - ECPv6.0.9//NONSGML v1.0//EN
CALSCALE:GREGORIAN
METHOD:PUBLISH
X-ORIGINAL-URL:https://www.croixblanche38.org
X-WR-CALDESC:évènements pour Croix Blanche de l&#039;Isère
REFRESH-INTERVAL;VALUE=DURATION:PT1H
X-Robots-Tag:noindex
X-PUBLISHED-TTL:PT1H
BEGIN:VTIMEZONE
TZID:Europe/Paris
BEGIN:DAYLIGHT
TZOFFSETFROM:+0100
TZOFFSETTO:+0200
TZNAME:CEST
DTSTART:20250330T010000
END:DAYLIGHT
BEGIN:STANDARD
TZOFFSETFROM:+0200
TZOFFSETTO:+0100
TZNAME:CET
DTSTART:20251026T010000
END:STANDARD
END:VTIMEZONE
BEGIN:VEVENT
DTSTART;TZID=Europe/Paris:20251027T080000
DTEND;TZID=Europe/Paris:20251103T163000
DTSTAMP:20260421T131831
CREATED:20250613T091413Z
LAST-MODIFIED:20250912T082402Z
UID:16510-1761552000-1762187400@www.croixblanche38.org
SUMMARY:FI BNSSA - du 27/10/2025 au 31/10/2025 - Piscine des Dauphins - Complet
DESCRIPTION:Consulter le programme de la formation\nProgramme formation \n \nTest diagnostic et positionnement des candidats pour la formation FI BNSSA\nLe vendredi 17/10/2025 de 18h à 19h30 – Piscine des Dauphins – Grenoble\nMatériels de PMT : Palmes\, Masques et Tuba \nVous souhaitez vous inscrire à la formation BNSSA – Fiche d’inscription :\nFiche d’inscription en pdf Fiche d’inscription en docx \nRèglement Intérieur : Règlement Intérieur \nExamen BNSSA : le 03/11/2025 – Piscine des Dauphins \n \n \nIntéressé(e) ? Vous pouvez ajouter cet évènement à votre agenda Google !
URL:https://www.croixblanche38.org/event/fi-bnssa-du-27-10-2025-au-31-10-2025-piscine-des-dauphins/
LOCATION:Piscine des Dauphins\, 12 av Edmond Esmonin\, Grenoble\, 38100
CATEGORIES:BNSSA,Calendrier
ATTACH;FMTTYPE=image/jpeg:https://www.croixblanche38.org/wp-content/uploads/2020/10/BNSSA_102580751_c.jpg
ORGANIZER;CN="Croix%20Blanche%2038":MAILTO:secretariat@croixblanche38.org
END:VEVENT
END:VCALENDAR